BEGIN:VCALENDAR
VERSION:2.0
PRODID:-//Tukios.com/
BEGIN:VEVENT
UID:6059c04c-da5b-4ea6-99f6-ed4dcbaac22a@www.borgwardtfuneralhome.com
DTSTAMP:20260419T215038Z
DTSTART:20260422T210000Z
DTEND:20260423T000000Z
SUMMARY:Visitation
DESCRIPTION:
URL:https://www.borgwardtfuneralhome.com/obituaries/carl-riley
LOCATION: 4400 Powder Mill Rd  Beltsville MD 20705
GEO:39.0493004;-76.9182547
END:VEVENT
END:VCALENDAR