BEGIN:VCALENDAR
VERSION:2.0
PRODID:-//Tukios.com/
BEGIN:VEVENT
UID:2bb85346-4fd6-4a78-a4d7-db546adbde84@www.borgwardtfuneralhome.com
DTSTAMP:20260419T215217Z
DTSTART:20260423
SUMMARY:Funeral Service
DESCRIPTION:
URL:https://www.borgwardtfuneralhome.com/obituaries/carl-riley
LOCATION:Faith City Central 2261 Oxon Run Drive  Temple Hills MD 20748
GEO:38.8422452;-76.9676011
END:VEVENT
END:VCALENDAR