BEGIN:VCALENDAR
VERSION:2.0
PRODID:-//Tukios.com/
BEGIN:VEVENT
UID:747eebbc-3aef-4a0c-9c10-8a43ff02d7cb@www.borgwardtfuneralhome.com
DTSTAMP:20260423T205425Z
DTSTART:20260424T130000Z
DTEND:20260424T140000Z
SUMMARY:Viewing
DESCRIPTION:
URL:https://www.borgwardtfuneralhome.com/obituaries/jebaraj-devairakkam
LOCATION: 2001 East Randolph Road  Silver Spring MD 20904
GEO:39.0639338;-76.9703757
END:VEVENT
END:VCALENDAR