BEGIN:VCALENDAR
VERSION:2.0
PRODID:-//Tukios.com/
BEGIN:VEVENT
UID:1c340901-4a96-4c55-a949-6a98c1b069cd@www.borgwardtfuneralhome.com
DTSTAMP:20260423T205308Z
DTSTART:20260424T160000Z
DTEND:20260424T170000Z
SUMMARY:Interment
DESCRIPTION:
URL:https://www.borgwardtfuneralhome.com/obituaries/jebaraj-devairakkam
LOCATION: 9500 Riggs Road  Adelphi MD 20783
GEO:39.0102884;-76.9686267
END:VEVENT
END:VCALENDAR