BEGIN:VCALENDAR
VERSION:2.0
PRODID:-//Tukios.com/
BEGIN:VEVENT
UID:4d734c21-6bb0-429c-b72c-d344cc4dc67a@www.borgwardtfuneralhome.com
DTSTAMP:20260421T181927Z
DTSTART:20260423T140000Z
DTEND:20260423T143000Z
SUMMARY:Viewing
DESCRIPTION:
URL:https://www.borgwardtfuneralhome.com/obituaries/pammu-rao
LOCATION: 4200 Ammendale Road  Beltsville MD 20705
GEO:39.0534895;-76.9212777
END:VEVENT
END:VCALENDAR