BEGIN:VCALENDAR
VERSION:2.0
PRODID:-//Tukios.com/
BEGIN:VEVENT
UID:2bf2dd82-8c0f-48ba-8385-b7a9815a002e@www.borgwardtfuneralhome.com
DTSTAMP:20260421T182050Z
DTSTART:20260423T143000Z
DTEND:20260423T160000Z
SUMMARY:Funeral Service
DESCRIPTION:
URL:https://www.borgwardtfuneralhome.com/obituaries/pammu-rao
LOCATION: 4200 Ammendale Road  Beltsville MD 20705
GEO:39.0534895;-76.9212777
END:VEVENT
END:VCALENDAR