BEGIN:VCALENDAR
VERSION:2.0
PRODID:-//Tukios.com/
BEGIN:VEVENT
UID:be89df33-e894-449a-9ea0-1c609d6d7480@www.borgwardtfuneralhome.com
DTSTAMP:20260421T182012Z
DTSTART:20260423T170000Z
DTEND:20260423T180000Z
SUMMARY:Interment
DESCRIPTION:
URL:https://www.borgwardtfuneralhome.com/obituaries/pammu-rao
LOCATION: 7250 Washington Boulevard  Elkridge MD 21075
GEO:39.186069;-76.762913
END:VEVENT
END:VCALENDAR